Workbook

Sheet Munster 2026–2027 Results
A1: Munster 2026–2027 Season Ranking Results – Event 1 (27 September 2026)
A2: Category | B2: Winner | C2: Runner-Up | D2: 3rd Place | E2: Entries | L2: Placing | M2: Standard points
A3: U11 Boys | B3: Beech Hill | C3: Beech Hill | D3: Leeside | E3: 3 | L3: 1 | M3: 200
A4: U11 Girls | B4: — | C4: — | D4: — | E4: 0 | L4: 2 | M4: 160
A5: U13 Boys | B5: Beech Hill | C5: Leeside | D5: Beech Hill / Carrigtwohill | E5: 9 | L5: 3 | M5: 130
A6: U13 Girls | B6: Leeside | C6: Leeside | D6: Leeside | E6: 3 | L6: 4 | M6: 110
A7: U15 Boys | B7: Beech Hill | C7: Killarney | D7: Leeside / Leeside | E7: 10 | L7: 5 | M7: 90
A8: U15 Girls | B8: Beech Hill | C8: Leeside | D8: Leeside | E8: 4 | L8: 6 | M8: 80
A9: U19 Boys | B9: TTStars Waterford | C9: Beech Hill | D9: Leeside / Leeside | E9: 8 | L9: 7 | M9: 75
A10: U19 Girls | B10: Leeside | C10: Leeside | D10: Beech Hill | E10: 4 | L10: 8 | M10: 70
A11: Para Mixed | B11: Beech Hill | C11: Waterford TTC | D11: Beech Hill / Beech Hill | E11: 6 | L11: 9 | M11: 65
A12: Veterans Men | B12: Killarney | C12: Beech Hill | D12: Leeside / Killarney | E12: 8 | L12: 10 | M12: 60
A13: Veterans Women | B13: TTStars Waterford | C13: Waterford TTC | D13: Beech Hill / TTStars Waterford | E13: 8 | L13: 11 | M13: 55
A14: Senior Men 1 | B14: Killarney | C14: Leeside | D14: Leeside / Beech Hill | E14: 12 | L14: 12 | M14: 50
... A16: Senior Women | B16: TTStars Waterford | C16: Beech Hill | D16: Leeside / Waterford TTC | E16: 12 | L16: 14 | M16: 40
L18: Category | M18: Points multiplier
A19: Event 1: 101 category entries. U11 Girls has no named entrants in the results. | L19: All except Senior Men 2 | M19: 1
L20: Senior Men 2 | M20: 0.4

Sheet U11 Boys
A1: Munster Ranking 2026–2027 – U11 Boys
A2: Rank | B2: Name | C2: Club | D2: Event 1 | E2: Event 2 | F2: Event 3 | G2: Event 4 | H2: Discard | I2: Total Points
A3: =COUNTIFS($I$3:$I$5,">"&I3)+1 -> 1 | B3: Cian Long | C3: Beech Hill | D3: ='Event 1 Results'!H3 -> 200 | H3: =IF(COUNT(D3:G3)=4,MIN(D3:G3),0) -> 0 | I3: =SUM(D3:G3)-H3 -> 200
A4: =COUNTIFS($I$3:$I$5,">"&I4)+1 -> 2 | B4: Shay Long | C4: Beech Hill | D4: ='Event 1 Results'!H4 -> 160 | H4: =IF(COUNT(D4:G4)=4,MIN(D4:G4),0) -> 0 | I4: =SUM(D4:G4)-H4 -> 160
A5: =COUNTIFS($I$3:$I$5,">"&I5)+1 -> 3 | B5: Shane McCarthy | C5: Leeside | D5: ='Event 1 Results'!H5 -> 130 | H5: =IF(COUNT(D5:G5)=4,MIN(D5:G5),0) -> 0 | I5: =SUM(D5:G5)-H5 -> 130

Sheet U11 Girls
A1: Munster Ranking 2026–2027 – U11 Girls
A2: Rank | B2: Name | C2: Club | D2: Event 1 | E2: Event 2 | F2: Event 3 | G2: Event 4 | H2: Discard | I2: Total Points
B4: No named entrants recorded for Event 1.

Sheet U13 Boys
A1: Munster Ranking 2026–2027 – U13 Boys
A2: Rank | B2: Name | C2: Club | D2: Event 1 | E2: Event 2 | F2: Event 3 | G2: Event 4 | H2: Discard | I2: Total Points
A3: =COUNTIFS($I$3:$I$11,">"&I3)+1 -> 1 | B3: Syed Taha Ahmed | C3: Beech Hill | D3: ='Event 1 Results'!H6 -> 200 | H3: =IF(COUNT(D3:G3)=4,MIN(D3:G3),0) -> 0 | I3: =SUM(D3:G3)-H3 -> 200
A4: =COUNTIFS($I$3:$I$11,">"&I4)+1 -> 2 | B4: Jamie Yan Theunissen | C4: Leeside | D4: ='Event 1 Results'!H7 -> 160 | H4: =IF(COUNT(D4:G4)=4,MIN(D4:G4),0) -> 0 | I4: =SUM(D4:G4)-H4 -> 160
A5: =COUNTIFS($I$3:$I$11,">"&I5)+1 -> 3 | B5: Finn Burns | C5: Beech Hill | D5: ='Event 1 Results'!H8 -> 130 | H5: =IF(COUNT(D5:G5)=4,MIN(D5:G5),0) -> 0 | I5: =SUM(D5:G5)-H5 -> 130
A6: =COUNTIFS($I$3:$I$11,">"&I6)+1 -> 3 | B6: Mati Majchrzak | C6: Carrigtwohill | D6: ='Event 1 Results'!H9 -> 130 | H6: =IF(COUNT(D6:G6)=4,MIN(D6:G6),0) -> 0 | I6: =SUM(D6:G6)-H6 -> 130
A7: =COUNTIFS($I$3:$I$11,">"&I7)+1 -> 5 | B7: Cian Long | C7: Beech Hill | D7: ='Event 1 Results'!H10 -> 90 | H7: =IF(COUNT(D7:G7)=4,MIN(D7:G7),0) -> 0 | I7: =SUM(D7:G7)-H7 -> 90
A8: =COUNTIFS($I$3:$I$11,">"&I8)+1 -> 5 | B8: Emile Autzen | C8: Leeside | D8: ='Event 1 Results'!H11 -> 90 | H8: =IF(COUNT(D8:G8)=4,MIN(D8:G8),0) -> 0 | I8: =SUM(D8:G8)-H8 -> 90
A9: =COUNTIFS($I$3:$I$11,">"&I9)+1 -> 7 | B9: Antoni Kaucz | C9: Carrigtwohill | D9: ='Event 1 Results'!H12 -> 75 | H9: =IF(COUNT(D9:G9)=4,MIN(D9:G9),0) -> 0 | I9: =SUM(D9:G9)-H9 -> 75
A10: =COUNTIFS($I$3:$I$11,">"&I10)+1 -> 8 | B10: Oscar Mazur | C10: Carrigtwohill | D10: ='Event 1 Results'!H13 -> 70 | H10: =IF(COUNT(D10:G10)=4,MIN(D10:G10),0) -> 0 | I10: =SUM(D10:G10)-H10 -> 70
A11: =COUNTIFS($I$3:$I$11,">"&I11)+1 -> 9 | B11: Shane McCarthy | C11: Leeside | D11: ='Event 1 Results'!H14 -> 65 | H11: =IF(COUNT(D11:G11)=4,MIN(D11:G11),0) -> 0 | I11: =SUM(D11:G11)-H11 -> 65

Sheet U13 Girls
A1: Munster Ranking 2026–2027 – U13 Girls
A2: Rank | B2: Name | C2: Club | D2: Event 1 | E2: Event 2 | F2: Event 3 | G2: Event 4 | H2: Discard | I2: Total Points
A3: =COUNTIFS($I$3:$I$5,">"&I3)+1 -> 1 | B3: Julia Petlytska | C3: Leeside | D3: ='Event 1 Results'!H15 -> 200 | H3: =IF(COUNT(D3:G3)=4,MIN(D3:G3),0) -> 0 | I3: =SUM(D3:G3)-H3 -> 200
A4: =COUNTIFS($I$3:$I$5,">"&I4)+1 -> 2 | B4: Victoria Sawecka | C4: Leeside | D4: ='Event 1 Results'!H16 -> 160 | H4: =IF(COUNT(D4:G4)=4,MIN(D4:G4),0) -> 0 | I4: =SUM(D4:G4)-H4 -> 160
A5: =COUNTIFS($I$3:$I$5,">"&I5)+1 -> 3 | B5: Tzu-Yen Chen | C5: Leeside | D5: ='Event 1 Results'!H17 -> 130 | H5: =IF(COUNT(D5:G5)=4,MIN(D5:G5),0) -> 0 | I5: =SUM(D5:G5)-H5 -> 130

Sheet U15 Boys
A1: Munster Ranking 2026–2027 – U15 Boys
A2: Rank | B2: Name | C2: Club | D2: Event 1 | E2: Event 2 | F2: Event 3 | G2: Event 4 | H2: Discard | I2: Total Points
A3: =COUNTIFS($I$3:$I$12,">"&I3)+1 -> 1 | B3: Syed Taha Ahmed | C3: Beech Hill | D3: ='Event 1 Results'!H18 -> 200 | H3: =IF(COUNT(D3:G3)=4,MIN(D3:G3),0) -> 0 | I3: =SUM(D3:G3)-H3 -> 200
A4: =COUNTIFS($I$3:$I$12,">"&I4)+1 -> 2 | B4: Olaf Chmielewski | C4: Killarney | D4: ='Event 1 Results'!H19 -> 160 | H4: =IF(COUNT(D4:G4)=4,MIN(D4:G4),0) -> 0 | I4: =SUM(D4:G4)-H4 -> 160
A5: =COUNTIFS($I$3:$I$12,">"&I5)+1 -> 3 | B5: Jayden Yan Theunissen | C5: Leeside | D5: ='Event 1 Results'!H20 -> 130 | H5: =IF(COUNT(D5:G5)=4,MIN(D5:G5),0) -> 0 | I5: =SUM(D5:G5)-H5 -> 130
A6: =COUNTIFS($I$3:$I$12,">"&I6)+1 -> 3 | B6: Jamie Yan Theunissen | C6: Leeside | D6: ='Event 1 Results'!H21 -> 130 | H6: =IF(COUNT(D6:G6)=4,MIN(D6:G6),0) -> 0 | I6: =SUM(D6:G6)-H6 -> 130
A7: =COUNTIFS($I$3:$I$12,">"&I7)+1 -> 5 | B7: Kieran Byrne | C7: Leeside | D7: ='Event 1 Results'!H22 -> 90 | H7: =IF(COUNT(D7:G7)=4,MIN(D7:G7),0) -> 0 | I7: =SUM(D7:G7)-H7 -> 90
A8: =COUNTIFS($I$3:$I$12,">"&I8)+1 -> 5 | B8: Oscar Mazur | C8: Carrigtwohill | D8: ='Event 1 Results'!H23 -> 90 | H8: =IF(COUNT(D8:G8)=4,MIN(D8:G8),0) -> 0 | I8: =SUM(D8:G8)-H8 -> 90
A9: =COUNTIFS($I$3:$I$12,">"&I9)+1 -> 7 | B9: Mati Majchrzak | C9: Carrigtwohill | D9: ='Event 1 Results'!H24 -> 75 | H9: =IF(COUNT(D9:G9)=4,MIN(D9:G9),0) -> 0 | I9: =SUM(D9:G9)-H9 -> 75
A10: =COUNTIFS($I$3:$I$12,">"&I10)+1 -> 8 | B10: Danny O'Sullivan | C10: Killarney | D10: ='Event 1 Results'!H25 -> 70 | H10: =IF(COUNT(D10:G10)=4,MIN(D10:G10),0) -> 0 | I10: =SUM(D10:G10)-H10 -> 70
A11: =COUNTIFS($I$3:$I$12,">"&I11)+1 -> 9 | B11: Mike O'Leidhin | C11: Leeside | D11: ='Event 1 Results'!H26 -> 65 | H11: =IF(COUNT(D11:G11)=4,MIN(D11:G11),0) -> 0 | I11: =SUM(D11:G11)-H11 -> 65
A12: =COUNTIFS($I$3:$I$12,">"&I12)+1 -> 9 | B12: Antoni Kaucz | C12: Carrigtwohill | D12: ='Event 1 Results'!H27 -> 65 | H12: =IF(COUNT(D12:G12)=4,MIN(D12:G12),0) -> 0 | I12: =SUM(D12:G12)-H12 -> 65

Sheet U15 Girls
A1: Munster Ranking 2026–2027 – U15 Girls
A2: Rank | B2: Name | C2: Club | D2: Event 1 | E2: Event 2 | F2: Event 3 | G2: Event 4 | H2: Discard | I2: Total Points
A3: =COUNTIFS($I$3:$I$6,">"&I3)+1 -> 1 | B3: Victoria Junyszek | C3: Beech Hill | D3: ='Event 1 Results'!H28 -> 200 | H3: =IF(COUNT(D3:G3)=4,MIN(D3:G3),0) -> 0 | I3: =SUM(D3:G3)-H3 -> 200
A4: =COUNTIFS($I$3:$I$6,">"&I4)+1 -> 2 | B4: Samanta Pusinskaite | C4: Leeside | D4: ='Event 1 Results'!H29 -> 160 | H4: =IF(COUNT(D4:G4)=4,MIN(D4:G4),0) -> 0 | I4: =SUM(D4:G4)-H4 -> 160
A5: =COUNTIFS($I$3:$I$6,">"&I5)+1 -> 3 | B5: Victoria Sawecka | C5: Leeside | D5: ='Event 1 Results'!H30 -> 130 | H5: =IF(COUNT(D5:G5)=4,MIN(D5:G5),0) -> 0 | I5: =SUM(D5:G5)-H5 -> 130
A6: =COUNTIFS($I$3:$I$6,">"&I6)+1 -> 4 | B6: Emma O'Callaghan | C6: Beech Hill | D6: ='Event 1 Results'!H31 -> 110 | H6: =IF(COUNT(D6:G6)=4,MIN(D6:G6),0) -> 0 | I6: =SUM(D6:G6)-H6 -> 110

Sheet U19 Boys
A1: Munster Ranking 2026–2027 – U19 Boys
A2: Rank | B2: Name | C2: Club | D2: Event 1 | E2: Event 2 | F2: Event 3 | G2: Event 4 | H2: Discard | I2: Total Points
A3: =COUNTIFS($I$3:$I$10,">"&I3)+1 -> 1 | B3: Martin Burke | C3: TTStars Waterford | D3: ='Event 1 Results'!H32 -> 200 | H3: =IF(COUNT(D3:G3)=4,MIN(D3:G3),0) -> 0 | I3: =SUM(D3:G3)-H3 -> 200
A4: =COUNTIFS($I$3:$I$10,">"&I4)+1 -> 2 | B4: Kevin O'Callaghan | C4: Beech Hill | D4: ='Event 1 Results'!H33 -> 160 | H4: =IF(COUNT(D4:G4)=4,MIN(D4:G4),0) -> 0 | I4: =SUM(D4:G4)-H4 -> 160
A5: =COUNTIFS($I$3:$I$10,">"&I5)+1 -> 3 | B5: Sean Buckley | C5: Leeside | D5: ='Event 1 Results'!H34 -> 130 | H5: =IF(COUNT(D5:G5)=4,MIN(D5:G5),0) -> 0 | I5: =SUM(D5:G5)-H5 -> 130
A6: =COUNTIFS($I$3:$I$10,">"&I6)+1 -> 3 | B6: Conall Conroy | C6: Leeside | D6: ='Event 1 Results'!H35 -> 130 | H6: =IF(COUNT(D6:G6)=4,MIN(D6:G6),0) -> 0 | I6: =SUM(D6:G6)-H6 -> 130
A7: =COUNTIFS($I$3:$I$10,">"&I7)+1 -> 5 | B7: Rohan Abilash | C7: Leeside | D7: ='Event 1 Results'!H36 -> 90 | H7: =IF(COUNT(D7:G7)=4,MIN(D7:G7),0) -> 0 | I7: =SUM(D7:G7)-H7 -> 90
A8: =COUNTIFS($I$3:$I$10,">"&I8)+1 -> 5 | B8: Jayden Yan Theunissen | C8: Leeside | D8: ='Event 1 Results'!H37 -> 90 | H8: =IF(COUNT(D8:G8)=4,MIN(D8:G8),0) -> 0 | I8: =SUM(D8:G8)-H8 -> 90
A9: =COUNTIFS($I$3:$I$10,">"&I9)+1 -> 7 | B9: Oliver Chamilla | C9: TTStars Waterford | D9: ='Event 1 Results'!H38 -> 75 | H9: =IF(COUNT(D9:G9)=4,MIN(D9:G9),0) -> 0 | I9: =SUM(D9:G9)-H9 -> 75
A10: =COUNTIFS($I$3:$I$10,">"&I10)+1 -> 8 | B10: Ronan Byrne | C10: Leeside | D10: ='Event 1 Results'!H39 -> 70 | H10: =IF(COUNT(D10:G10)=4,MIN(D10:G10),0) -> 0 | I10: =SUM(D10:G10)-H10 -> 70

Sheet U19 Girls
A1: Munster Ranking 2026–2027 – U19 Girls
A2: Rank | B2: Name | C2: Club | D2: Event 1 | E2: Event 2 | F2: Event 3 | G2: Event 4 | H2: Discard | I2: Total Points
A3: =COUNTIFS($I$3:$I$6,">"&I3)+1 -> 1 | B3: Caoimhe Deane | C3: Leeside | D3: ='Event 1 Results'!H40 -> 200 | H3: =IF(COUNT(D3:G3)=4,MIN(D3:G3),0) -> 0 | I3: =SUM(D3:G3)-H3 -> 200
A4: =COUNTIFS($I$3:$I$6,">"&I4)+1 -> 2 | B4: Samanta Pusinskaite | C4: Leeside | D4: ='Event 1 Results'!H41 -> 160 | H4: =IF(COUNT(D4:G4)=4,MIN(D4:G4),0) -> 0 | I4: =SUM(D4:G4)-H4 -> 160
A5: =COUNTIFS($I$3:$I$6,">"&I5)+1 -> 3 | B5: Victoria Junyszek | C5: Beech Hill | D5: ='Event 1 Results'!H42 -> 130 | H5: =IF(COUNT(D5:G5)=4,MIN(D5:G5),0) -> 0 | I5: =SUM(D5:G5)-H5 -> 130
A6: =COUNTIFS($I$3:$I$6,">"&I6)+1 -> 4 | B6: Emma O'Callaghan | C6: Beech Hill | D6: ='Event 1 Results'!H43 -> 110 | H6: =IF(COUNT(D6:G6)=4,MIN(D6:G6),0) -> 0 | I6: =SUM(D6:G6)-H6 -> 110

Sheet Para Mixed
A1: Munster Ranking 2026–2027 – Para Mixed
A2: Rank | B2: Name | C2: Club | D2: Event 1 | E2: Event 2 | F2: Event 3 | G2: Event 4 | H2: Discard | I2: Total Points
A3: =COUNTIFS($I$3:$I$8,">"&I3)+1 -> 1 | B3: Kevin O'Callaghan | C3: Beech Hill | D3: ='Event 1 Results'!H44 -> 200 | H3: =IF(COUNT(D3:G3)=4,MIN(D3:G3),0) -> 0 | I3: =SUM(D3:G3)-H3 -> 200
A4: =COUNTIFS($I$3:$I$8,">"&I4)+1 -> 2 | B4: Dan Jensen | C4: Waterford TTC | D4: ='Event 1 Results'!H45 -> 160 | H4: =IF(COUNT(D4:G4)=4,MIN(D4:G4),0) -> 0 | I4: =SUM(D4:G4)-H4 -> 160
A5: =COUNTIFS($I$3:$I$8,">"&I5)+1 -> 3 | B5: Aoife Kelly | C5: Beech Hill | D5: ='Event 1 Results'!H46 -> 130 | H5: =IF(COUNT(D5:G5)=4,MIN(D5:G5),0) -> 0 | I5: =SUM(D5:G5)-H5 -> 130
A6: =COUNTIFS($I$3:$I$8,">"&I6)+1 -> 3 | B6: Emma O'Connor | C6: Beech Hill | D6: ='Event 1 Results'!H47 -> 130 | H6: =IF(COUNT(D6:G6)=4,MIN(D6:G6),0) -> 0 | I6: =SUM(D6:G6)-H6 -> 130
A7: =COUNTIFS($I$3:$I$8,">"&I7)+1 -> 5 | B7: Sean McMahon | C7: Beech Hill | D7: ='Event 1 Results'!H48 -> 90 | H7: =IF(COUNT(D7:G7)=4,MIN(D7:G7),0) -> 0 | I7: =SUM(D7:G7)-H7 -> 90
A8: =COUNTIFS($I$3:$I$8,">"&I8)+1 -> 6 | B8: Paul Fitzgerald | C8: Beech Hill | D8: ='Event 1 Results'!H49 -> 80 | H8: =IF(COUNT(D8:G8)=4,MIN(D8:G8),0) -> 0 | I8: =SUM(D8:G8)-H8 -> 80

Sheet Veterans Men
A1: Munster Ranking 2026–2027 – Veterans Men
A2: Rank | B2: Name | C2: Club | D2: Event 1 | E2: Event 2 | F2: Event 3 | G2: Event 4 | H2: Discard | I2: Total Points
A3: =COUNTIFS($I$3:$I$10,">"&I3)+1 -> 1 | B3: Anthony Redmond | C3: Killarney | D3: ='Event 1 Results'!H50 -> 200 | H3: =IF(COUNT(D3:G3)=4,MIN(D3:G3),0) -> 0 | I3: =SUM(D3:G3)-H3 -> 200
A4: =COUNTIFS($I$3:$I$10,">"&I4)+1 -> 2 | B4: Philip Shaw | C4: Beech Hill | D4: ='Event 1 Results'!H51 -> 160 | H4: =IF(COUNT(D4:G4)=4,MIN(D4:G4),0) -> 0 | I4: =SUM(D4:G4)-H4 -> 160
A5: =COUNTIFS($I$3:$I$10,">"&I5)+1 -> 3 | B5: Chetan Rai | C5: Leeside | D5: ='Event 1 Results'!H52 -> 130 | H5: =IF(COUNT(D5:G5)=4,MIN(D5:G5),0) -> 0 | I5: =SUM(D5:G5)-H5 -> 130
A6: =COUNTIFS($I$3:$I$10,">"&I6)+1 -> 3 | B6: Daniel Szabat | C6: Killarney | D6: ='Event 1 Results'!H53 -> 130 | H6: =IF(COUNT(D6:G6)=4,MIN(D6:G6),0) -> 0 | I6: =SUM(D6:G6)-H6 -> 130
A7: =COUNTIFS($I$3:$I$10,">"&I7)+1 -> 5 | B7: Myo Chit Ko | C7: TTStars Waterford | D7: ='Event 1 Results'!H54 -> 90 | H7: =IF(COUNT(D7:G7)=4,MIN(D7:G7),0) -> 0 | I7: =SUM(D7:G7)-H7 -> 90
A8: =COUNTIFS($I$3:$I$10,">"&I8)+1 -> 6 | B8: Khurram Goraya | D8: ='Event 1 Results'!H55 -> 80 | H8: =IF(COUNT(D8:G8)=4,MIN(D8:G8),0) -> 0 | I8: =SUM(D8:G8)-H8 -> 80
A9: =COUNTIFS($I$3:$I$10,">"&I9)+1 -> 7 | B9: John Conway | C9: SETU Waterford | D9: ='Event 1 Results'!H56 -> 75 | H9: =IF(COUNT(D9:G9)=4,MIN(D9:G9),0) -> 0 | I9: =SUM(D9:G9)-H9 -> 75
A10: =COUNTIFS($I$3:$I$10,">"&I10)+1 -> 7 | B10: Evaldas Pusinskas | C10: Leeside | D10: ='Event 1 Results'!H57 -> 75 | H10: =IF(COUNT(D10:G10)=4,MIN(D10:G10),0) -> 0 | I10: =SUM(D10:G10)-H10 -> 75

Sheet Veterans Women
A1: Munster Ranking 2026–2027 – Veterans Women
A2: Rank | B2: Name | C2: Club | D2: Event 1 | E2: Event 2 | F2: Event 3 | G2: Event 4 | H2: Discard | I2: Total Points
A3: =COUNTIFS($I$3:$I$10,">"&I3)+1 -> 1 | B3: Bernie Franklin | C3: TTStars Waterford | D3: ='Event 1 Results'!H58 -> 200 | H3: =IF(COUNT(D3:G3)=4,MIN(D3:G3),0) -> 0 | I3: =SUM(D3:G3)-H3 -> 200
A4: =COUNTIFS($I$3:$I$10,">"&I4)+1 -> 2 | B4: Catherine Morrissey | C4: Waterford TTC | D4: ='Event 1 Results'!H59 -> 160 | H4: =IF(COUNT(D4:G4)=4,MIN(D4:G4),0) -> 0 | I4: =SUM(D4:G4)-H4 -> 160
A5: =COUNTIFS($I$3:$I$10,">"&I5)+1 -> 3 | B5: Dorota Sokolowska | C5: Beech Hill | D5: ='Event 1 Results'!H60 -> 130 | H5: =IF(COUNT(D5:G5)=4,MIN(D5:G5),0) -> 0 | I5: =SUM(D5:G5)-H5 -> 130
A6: =COUNTIFS($I$3:$I$10,">"&I6)+1 -> 3 | B6: Sylwia Idec | C6: TTStars Waterford | D6: ='Event 1 Results'!H61 -> 130 | H6: =IF(COUNT(D6:G6)=4,MIN(D6:G6),0) -> 0 | I6: =SUM(D6:G6)-H6 -> 130
A7: =COUNTIFS($I$3:$I$10,">"&I7)+1 -> 5 | B7: Eileen Murphy | C7: Carrigtwohill | D7: ='Event 1 Results'!H62 -> 90 | H7: =IF(COUNT(D7:G7)=4,MIN(D7:G7),0) -> 0 | I7: =SUM(D7:G7)-H7 -> 90
A8: =COUNTIFS($I$3:$I$10,">"&I8)+1 -> 6 | B8: Aine Burns | C8: Beech Hill | D8: ='Event 1 Results'!H63 -> 80 | H8: =IF(COUNT(D8:G8)=4,MIN(D8:G8),0) -> 0 | I8: =SUM(D8:G8)-H8 -> 80
A9: =COUNTIFS($I$3:$I$10,">"&I9)+1 -> 7 | B9: Oonagh Cunningham | C9: Beech Hill | D9: ='Event 1 Results'!H64 -> 75 | H9: =IF(COUNT(D9:G9)=4,MIN(D9:G9),0) -> 0 | I9: =SUM(D9:G9)-H9 -> 75
A10: =COUNTIFS($I$3:$I$10,">"&I10)+1 -> 7 | B10: Amelia O'Connor | C10: Beech Hill | D10: ='Event 1 Results'!H65 -> 75 | H10: =IF(COUNT(D10:G10)=4,MIN(D10:G10),0) -> 0 | I10: =SUM(D10:G10)-H10 -> 75

Sheet Senior Men
A1: Munster Ranking 2026–2027 – Senior Men
A2: Rank | B2: Name | C2: Club | D2: Event 1 | E2: Event 2 | F2: Event 3 | G2: Event 4 | H2: Discard | I2: Total Points
A3: =COUNTIFS($I$3:$I$28,">"&I3)+1 -> 1 | B3: Anthony Redmond | C3: Killarney | D3: ='Event 1 Results'!H66 -> 200 | H3: =IF(COUNT(D3:G3)=4,MIN(D3:G3),0) -> 0 | I3: =SUM(D3:G3)-H3 -> 200
A4: =COUNTIFS($I$3:$I$28,">"&I4)+1 -> 2 | B4: Ankur Kumar | C4: Leeside | D4: ='Event 1 Results'!H67 -> 160 | H4: =IF(COUNT(D4:G4)=4,MIN(D4:G4),0) -> 0 | I4: =SUM(D4:G4)-H4 -> 160
A5: =COUNTIFS($I$3:$I$28,">"&I5)+1 -> 3 | B5: Chetan Rai | C5: Leeside | D5: ='Event 1 Results'!H68 -> 130 | H5: =IF(COUNT(D5:G5)=4,MIN(D5:G5),0) -> 0 | I5: =SUM(D5:G5)-H5 -> 130
A6: =COUNTIFS($I$3:$I$28,">"&I6)+1 -> 3 | B6: Kevin O'Callaghan | C6: Beech Hill | D6: ='Event 1 Results'!H69 -> 130 | H6: =IF(COUNT(D6:G6)=4,MIN(D6:G6),0) -> 0 | I6: =SUM(D6:G6)-H6 -> 130
A7: =COUNTIFS($I$3:$I$28,">"&I7)+1 -> 5 | B7: Philip Shaw | C7: Beech Hill | D7: ='Event 1 Results'!H70 -> 90 | H7: =IF(COUNT(D7:G7)=4,MIN(D7:G7),0) -> 0 | I7: =SUM(D7:G7)-H7 -> 90
A8: =COUNTIFS($I$3:$I$28,">"&I8)+1 -> 5 | B8: John Conway | C8: SETU Waterford | D8: ='Event 1 Results'!H71 -> 90 | H8: =IF(COUNT(D8:G8)=4,MIN(D8:G8),0) -> 0 | I8: =SUM(D8:G8)-H8 -> 90
A9: =COUNTIFS($I$3:$I$28,">"&I9)+1 -> 5 | B9: Piotr Sawecki | C9: Leeside | D9: ='Event 1 Results'!H72 -> 90 | H9: =IF(COUNT(D9:G9)=4,MIN(D9:G9),0) -> 0 | I9: =SUM(D9:G9)-H9 -> 90
A10: =COUNTIFS($I$3:$I$28,">"&I10)+1 -> 5 | B10: Alex Melikov | C10: Leeside | D10: ='Event 1 Results'!H73 -> 90 | H10: =IF(COUNT(D10:G10)=4,MIN(D10:G10),0) -> 0 | I10: =SUM(D10:G10)-H10 -> 90
A11: =COUNTIFS($I$3:$I$28,">"&I11)+1 -> 9 | B11: Jamie Yan Theunissen | C11: Leeside | D11: ='Event 1 Results'!H78 -> 80 | H11: =IF(COUNT(D11:G11)=4,MIN(D11:G11),0) -> 0 | I11: =SUM(D11:G11)-H11 -> 80
A12: =COUNTIFS($I$3:$I$28,">"&I12)+1 -> 10 | B12: Myo Chit Ko | C12: TTStars Waterford | D12: ='Event 1 Results'!H74 -> 65 | H12: =IF(COUNT(D12:G12)=4,MIN(D12:G12),0) -> 0 | I12: =SUM(D12:G12)-H12 -> 65
A13: =COUNTIFS($I$3:$I$28,">"&I13)+1 -> 11 | B13: Jayden Yan Theunissen | C13: Leeside | D13: ='Event 1 Results'!H79 -> 64 | H13: =IF(COUNT(D13:G13)=4,MIN(D13:G13),0) -> 0 | I13: =SUM(D13:G13)-H13 -> 64
A14: =COUNTIFS($I$3:$I$28,">"&I14)+1 -> 12 | B14: Martin Burke | C14: TTStars Waterford | D14: ='Event 1 Results'!H75 -> 60 | H14: =IF(COUNT(D14:G14)=4,MIN(D14:G14),0) -> 0 | I14: =SUM(D14:G14)-H14 -> 60
A15: =COUNTIFS($I$3:$I$28,">"&I15)+1 -> 13 | B15: Conall Conroy | C15: Leeside | D15: ='Event 1 Results'!H76 -> 55 | H15: =IF(COUNT(D15:G15)=4,MIN(D15:G15),0) -> 0 | I15: =SUM(D15:G15)-H15 -> 55
A16: =COUNTIFS($I$3:$I$28,">"&I16)+1 -> 14 | B16: Khurram Goraya | D16: ='Event 1 Results'!H80 -> 52 | H16: =IF(COUNT(D16:G16)=4,MIN(D16:G16),0) -> 0 | I16: =SUM(D16:G16)-H16 -> 52
A17: =COUNTIFS($I$3:$I$28,">"&I17)+1 -> 14 | B17: Higor Soares | C17: Leeside | D17: ='Event 1 Results'!H81 -> 52 | H17: =IF(COUNT(D17:G17)=4,MIN(D17:G17),0) -> 0 | I17: =SUM(D17:G17)-H17 -> 52
A18: =COUNTIFS($I$3:$I$28,">"&I18)+1 -> 16 | B18: Sean Buckley | C18: Leeside | D18: ='Event 1 Results'!H77 -> 50 | H18: =IF(COUNT(D18:G18)=4,MIN(D18:G18),0) -> 0 | I18: =SUM(D18:G18)-H18 -> 50
A19: =COUNTIFS($I$3:$I$28,">"&I19)+1 -> 17 | B19: Olaf Chmielewski | C19: Killarney | D19: ='Event 1 Results'!H82 -> 36 | H19: =IF(COUNT(D19:G19)=4,MIN(D19:G19),0) -> 0 | I19: =SUM(D19:G19)-H19 -> 36
A20: =COUNTIFS($I$3:$I$28,">"&I20)+1 -> 17 | B20: Ronan Byrne | C20: Leeside | D20: ='Event 1 Results'!H83 -> 36 | H20: =IF(COUNT(D20:G20)=4,MIN(D20:G20),0) -> 0 | I20: =SUM(D20:G20)-H20 -> 36
A21: =COUNTIFS($I$3:$I$28,">"&I21)+1 -> 17 | B21: Evaldas Pusinskas | C21: Leeside | D21: ='Event 1 Results'!H84 -> 36 | H21: =IF(COUNT(D21:G21)=4,MIN(D21:G21),0) -> 0 | I21: =SUM(D21:G21)-H21 -> 36
A22: =COUNTIFS($I$3:$I$28,">"&I22)+1 -> 17 | B22: Amit Kumar | C22: Leeside | D22: ='Event 1 Results'!H85 -> 36 | H22: =IF(COUNT(D22:G22)=4,MIN(D22:G22),0) -> 0 | I22: =SUM(D22:G22)-H22 -> 36
A23: =COUNTIFS($I$3:$I$28,">"&I23)+1 -> 21 | B23: Tamilarasan Janakiraman | C23: Leeside | D23: ='Event 1 Results'!H86 -> 26 | H23: =IF(COUNT(D23:G23)=4,MIN(D23:G23),0) -> 0 | I23: =SUM(D23:G23)-H23 -> 26
A24: =COUNTIFS($I$3:$I$28,">"&I24)+1 -> 22 | B24: Rohan Abhilash | C24: Leeside | D24: ='Event 1 Results'!H87 -> 24 | H24: =IF(COUNT(D24:G24)=4,MIN(D24:G24),0) -> 0 | I24: =SUM(D24:G24)-H24 -> 24
A25: =COUNTIFS($I$3:$I$28,">"&I25)+1 -> 23 | B25: Jason O'Callaghan | C25: Beech Hill | D25: ='Event 1 Results'!H88 -> 22 | H25: =IF(COUNT(D25:G25)=4,MIN(D25:G25),0) -> 0 | I25: =SUM(D25:G25)-H25 -> 22
A26: =COUNTIFS($I$3:$I$28,">"&I26)+1 -> 24 | B26: Oliver Chamilla | C26: TTStars Waterford | D26: ='Event 1 Results'!H89 -> 20 | H26: =IF(COUNT(D26:G26)=4,MIN(D26:G26),0) -> 0 | I26: =SUM(D26:G26)-H26 -> 20
A27: =COUNTIFS($I$3:$I$28,">"&I27)+1 -> 25 | B27: Mayank Srivastava | C27: UCC | D27: ='Event 1 Results'!H90 -> 18 | H27: =IF(COUNT(D27:G27)=4,MIN(D27:G27),0) -> 0 | I27: =SUM(D27:G27)-H27 -> 18
A28: =COUNTIFS($I$3:$I$28,">"&I28)+1 -> 25 | B28: Pratik Pawar | C28: Beech Hill | D28: ='Event 1 Results'!H91 -> 18 | H28: =IF(COUNT(D28:G28)=4,MIN(D28:G28),0) -> 0 | I28: =SUM(D28:G28)-H28 -> 18

Sheet Senior Women
A1: Munster Ranking 2026–2027 – Senior Women
A2: Rank | B2: Name | C2: Club | D2: Event 1 | E2: Event 2 | F2: Event 3 | G2: Event 4 | H2: Discard | I2: Total Points
A3: =COUNTIFS($I$3:$I$14,">"&I3)+1 -> 1 | B3: Bernie Franklin | C3: TTStars Waterford | D3: ='Event 1 Results'!H92 -> 200 | H3: =IF(COUNT(D3:G3)=4,MIN(D3:G3),0) -> 0 | I3: =SUM(D3:G3)-H3 -> 200
A4: =COUNTIFS($I$3:$I$14,">"&I4)+1 -> 2 | B4: Victoria Junyszek | C4: Beech Hill | D4: ='Event 1 Results'!H93 -> 160 | H4: =IF(COUNT(D4:G4)=4,MIN(D4:G4),0) -> 0 | I4: =SUM(D4:G4)-H4 -> 160
A5: =COUNTIFS($I$3:$I$14,">"&I5)+1 -> 3 | B5: Caoimhe Deane | C5: Leeside | D5: ='Event 1 Results'!H94 -> 130 | H5: =IF(COUNT(D5:G5)=4,MIN(D5:G5),0) -> 0 | I5: =SUM(D5:G5)-H5 -> 130
A6: =COUNTIFS($I$3:$I$14,">"&I6)+1 -> 3 | B6: Catherine Morrissey | C6: Waterford TTC | D6: ='Event 1 Results'!H95 -> 130 | H6: =IF(COUNT(D6:G6)=4,MIN(D6:G6),0) -> 0 | I6: =SUM(D6:G6)-H6 -> 130
A7: =COUNTIFS($I$3:$I$14,">"&I7)+1 -> 5 | B7: Laura O'Keeffe | C7: Leeside | D7: ='Event 1 Results'!H96 -> 90 | H7: =IF(COUNT(D7:G7)=4,MIN(D7:G7),0) -> 0 | I7: =SUM(D7:G7)-H7 -> 90
A8: =COUNTIFS($I$3:$I$14,">"&I8)+1 -> 5 | B8: Sylwia Idec | C8: TTStars Waterford | D8: ='Event 1 Results'!H97 -> 90 | H8: =IF(COUNT(D8:G8)=4,MIN(D8:G8),0) -> 0 | I8: =SUM(D8:G8)-H8 -> 90
A9: =COUNTIFS($I$3:$I$14,">"&I9)+1 -> 7 | B9: Victoria Sawecka | C9: Leeside | D9: ='Event 1 Results'!H98 -> 75 | H9: =IF(COUNT(D9:G9)=4,MIN(D9:G9),0) -> 0 | I9: =SUM(D9:G9)-H9 -> 75
A10: =COUNTIFS($I$3:$I$14,">"&I10)+1 -> 8 | B10: Samanta Pusinskaite | C10: Leeside | D10: ='Event 1 Results'!H99 -> 70 | H10: =IF(COUNT(D10:G10)=4,MIN(D10:G10),0) -> 0 | I10: =SUM(D10:G10)-H10 -> 70
A11: =COUNTIFS($I$3:$I$14,">"&I11)+1 -> 9 | B11: Aoife Kelly | C11: Beech Hill | D11: ='Event 1 Results'!H100 -> 65 | H11: =IF(COUNT(D11:G11)=4,MIN(D11:G11),0) -> 0 | I11: =SUM(D11:G11)-H11 -> 65
A12: =COUNTIFS($I$3:$I$14,">"&I12)+1 -> 9 | B12: Malgorzata Jankowska | C12: Beech Hill | D12: ='Event 1 Results'!H101 -> 65 | H12: =IF(COUNT(D12:G12)=4,MIN(D12:G12),0) -> 0 | I12: =SUM(D12:G12)-H12 -> 65
A13: =COUNTIFS($I$3:$I$14,">"&I13)+1 -> 11 | B13: Eileen Murphy | C13: Carrigtwohill | D13: ='Event 1 Results'!H102 -> 55 | H13: =IF(COUNT(D13:G13)=4,MIN(D13:G13),0) -> 0 | I13: =SUM(D13:G13)-H13 -> 55
A14: =COUNTIFS($I$3:$I$14,">"&I14)+1 -> 11 | B14: Emma O'Callaghan | C14: Beech Hill | D14: ='Event 1 Results'!H103 -> 55 | H14: =IF(COUNT(D14:G14)=4,MIN(D14:G14),0) -> 0 | I14: =SUM(D14:G14)-H14 -> 55

Sheet Senior Men 1
A1: Munster Ranking 2026–2027 – Senior Men 1
A2: Rank | B2: Name | C2: Club | D2: Event 1 | E2: Event 2 | F2: Event 3 | G2: Event 4 | H2: Discard | I2: Total Points
A3: =COUNTIFS($I$3:$I$14,">"&I3)+1 -> 1 | B3: Anthony Redmond | C3: Killarney | D3: ='Event 1 Results'!H66 -> 200 | H3: =IF(COUNT(D3:G3)=4,MIN(D3:G3),0) -> 0 | I3: =SUM(D3:G3)-H3 -> 200
A4: =COUNTIFS($I$3:$I$14,">"&I4)+1 -> 2 | B4: Ankur Kumar | C4: Leeside | D4: ='Event 1 Results'!H67 -> 160 | H4: =IF(COUNT(D4:G4)=4,MIN(D4:G4),0) -> 0 | I4: =SUM(D4:G4)-H4 -> 160
A5: =COUNTIFS($I$3:$I$14,">"&I5)+1 -> 3 | B5: Chetan Rai | C5: Leeside | D5: ='Event 1 Results'!H68 -> 130 | H5: =IF(COUNT(D5:G5)=4,MIN(D5:G5),0) -> 0 | I5: =SUM(D5:G5)-H5 -> 130
A6: =COUNTIFS($I$3:$I$14,">"&I6)+1 -> 3 | B6: Kevin O'Callaghan | C6: Beech Hill | D6: ='Event 1 Results'!H69 -> 130 | H6: =IF(COUNT(D6:G6)=4,MIN(D6:G6),0) -> 0 | I6: =SUM(D6:G6)-H6 -> 130
A7: =COUNTIFS($I$3:$I$14,">"&I7)+1 -> 5 | B7: Philip Shaw | C7: Beech Hill | D7: ='Event 1 Results'!H70 -> 90 | H7: =IF(COUNT(D7:G7)=4,MIN(D7:G7),0) -> 0 | I7: =SUM(D7:G7)-H7 -> 90
A8: =COUNTIFS($I$3:$I$14,">"&I8)+1 -> 5 | B8: John Conway | C8: SETU Waterford | D8: ='Event 1 Results'!H71 -> 90 | H8: =IF(COUNT(D8:G8)=4,MIN(D8:G8),0) -> 0 | I8: =SUM(D8:G8)-H8 -> 90
A9: =COUNTIFS($I$3:$I$14,">"&I9)+1 -> 5 | B9: Piotr Sawecki | C9: Leeside | D9: ='Event 1 Results'!H72 -> 90 | H9: =IF(COUNT(D9:G9)=4,MIN(D9:G9),0) -> 0 | I9: =SUM(D9:G9)-H9 -> 90
A10: =COUNTIFS($I$3:$I$14,">"&I10)+1 -> 5 | B10: Alex Melikov | C10: Leeside | D10: ='Event 1 Results'!H73 -> 90 | H10: =IF(COUNT(D10:G10)=4,MIN(D10:G10),0) -> 0 | I10: =SUM(D10:G10)-H10 -> 90
A11: =COUNTIFS($I$3:$I$14,">"&I11)+1 -> 9 | B11: Myo Chit Ko | C11: TTStars Waterford | D11: ='Event 1 Results'!H74 -> 65 | H11: =IF(COUNT(D11:G11)=4,MIN(D11:G11),0) -> 0 | I11: =SUM(D11:G11)-H11 -> 65
A12: =COUNTIFS($I$3:$I$14,">"&I12)+1 -> 10 | B12: Martin Burke | C12: TTStars Waterford | D12: ='Event 1 Results'!H75 -> 60 | H12: =IF(COUNT(D12:G12)=4,MIN(D12:G12),0) -> 0 | I12: =SUM(D12:G12)-H12 -> 60
A13: =COUNTIFS($I$3:$I$14,">"&I13)+1 -> 11 | B13: Conall Conroy | C13: Leeside | D13: ='Event 1 Results'!H76 -> 55 | H13: =IF(COUNT(D13:G13)=4,MIN(D13:G13),0) -> 0 | I13: =SUM(D13:G13)-H13 -> 55
A14: =COUNTIFS($I$3:$I$14,">"&I14)+1 -> 12 | B14: Sean Buckley | C14: Leeside | D14: ='Event 1 Results'!H77 -> 50 | H14: =IF(COUNT(D14:G14)=4,MIN(D14:G14),0) -> 0 | I14: =SUM(D14:G14)-H14 -> 50

Sheet Senior Men 2
A1: Munster Ranking 2026–2027 – Senior Men 2
A2: Rank | B2: Name | C2: Club | D2: Event 1 | E2: Event 2 | F2: Event 3 | G2: Event 4 | H2: Discard | I2: Total Points
A3: =COUNTIFS($I$3:$I$16,">"&I3)+1 -> 1 | B3: Jamie Yan Theunissen | C3: Leeside | D3: ='Event 1 Results'!H78 -> 80 | H3: =IF(COUNT(D3:G3)=4,MIN(D3:G3),0) -> 0 | I3: =SUM(D3:G3)-H3 -> 80
A4: =COUNTIFS($I$3:$I$16,">"&I4)+1 -> 2 | B4: Jayden Yan Theunissen | C4: Leeside | D4: ='Event 1 Results'!H79 -> 64 | H4: =IF(COUNT(D4:G4)=4,MIN(D4:G4),0) -> 0 | I4: =SUM(D4:G4)-H4 -> 64
A5: =COUNTIFS($I$3:$I$16,">"&I5)+1 -> 3 | B5: Khurram Goraya | D5: ='Event 1 Results'!H80 -> 52 | H5: =IF(COUNT(D5:G5)=4,MIN(D5:G5),0) -> 0 | I5: =SUM(D5:G5)-H5 -> 52
A6: =COUNTIFS($I$3:$I$16,">"&I6)+1 -> 3 | B6: Higor Soares | C6: Leeside | D6: ='Event 1 Results'!H81 -> 52 | H6: =IF(COUNT(D6:G6)=4,MIN(D6:G6),0) -> 0 | I6: =SUM(D6:G6)-H6 -> 52
A7: =COUNTIFS($I$3:$I$16,">"&I7)+1 -> 5 | B7: Olaf Chmielewski | C7: Killarney | D7: ='Event 1 Results'!H82 -> 36 | H7: =IF(COUNT(D7:G7)=4,MIN(D7:G7),0) -> 0 | I7: =SUM(D7:G7)-H7 -> 36
A8: =COUNTIFS($I$3:$I$16,">"&I8)+1 -> 5 | B8: Ronan Byrne | C8: Leeside | D8: ='Event 1 Results'!H83 -> 36 | H8: =IF(COUNT(D8:G8)=4,MIN(D8:G8),0) -> 0 | I8: =SUM(D8:G8)-H8 -> 36
A9: =COUNTIFS($I$3:$I$16,">"&I9)+1 -> 5 | B9: Evaldas Pusinskas | C9: Leeside | D9: ='Event 1 Results'!H84 -> 36 | H9: =IF(COUNT(D9:G9)=4,MIN(D9:G9),0) -> 0 | I9: =SUM(D9:G9)-H9 -> 36
A10: =COUNTIFS($I$3:$I$16,">"&I10)+1 -> 5 | B10: Amit Kumar | C10: Leeside | D10: ='Event 1 Results'!H85 -> 36 | H10: =IF(COUNT(D10:G10)=4,MIN(D10:G10),0) -> 0 | I10: =SUM(D10:G10)-H10 -> 36
A11: =COUNTIFS($I$3:$I$16,">"&I11)+1 -> 9 | B11: Tamilarasan Janakiraman | C11: Leeside | D11: ='Event 1 Results'!H86 -> 26 | H11: =IF(COUNT(D11:G11)=4,MIN(D11:G11),0) -> 0 | I11: =SUM(D11:G11)-H11 -> 26
A12: =COUNTIFS($I$3:$I$16,">"&I12)+1 -> 10 | B12: Rohan Abhilash | C12: Leeside | D12: ='Event 1 Results'!H87 -> 24 | H12: =IF(COUNT(D12:G12)=4,MIN(D12:G12),0) -> 0 | I12: =SUM(D12:G12)-H12 -> 24
A13: =COUNTIFS($I$3:$I$16,">"&I13)+1 -> 11 | B13: Jason O'Callaghan | C13: Beech Hill | D13: ='Event 1 Results'!H88 -> 22 | H13: =IF(COUNT(D13:G13)=4,MIN(D13:G13),0) -> 0 | I13: =SUM(D13:G13)-H13 -> 22
A14: =COUNTIFS($I$3:$I$16,">"&I14)+1 -> 12 | B14: Oliver Chamilla | C14: TTStars Waterford | D14: ='Event 1 Results'!H89 -> 20 | H14: =IF(COUNT(D14:G14)=4,MIN(D14:G14),0) -> 0 | I14: =SUM(D14:G14)-H14 -> 20
A15: =COUNTIFS($I$3:$I$16,">"&I15)+1 -> 13 | B15: Mayank Srivastava | C15: UCC | D15: ='Event 1 Results'!H90 -> 18 | H15: =IF(COUNT(D15:G15)=4,MIN(D15:G15),0) -> 0 | I15: =SUM(D15:G15)-H15 -> 18
A16: =COUNTIFS($I$3:$I$16,">"&I16)+1 -> 13 | B16: Pratik Pawar | C16: Beech Hill | D16: ='Event 1 Results'!H91 -> 18 | H16: =IF(COUNT(D16:G16)=4,MIN(D16:G16),0) -> 0 | I16: =SUM(D16:G16)-H16 -> 18

Sheet Event 1 Results
A1: Event 1 results and ranking points – 27 September 2026
A2: Category | B2: Placing | C2: Player | D2: Club | E2: Original club | F2: Source row | G2: Multiplier | H2: Event 1 points
A3: U11 Boys | B3: 1 | C3: Cian Long | D3: Beech Hill | E3: BHTTC | F3: 4 | G3: ='Munster 2026–2027 Results'!$M$19 -> 1 | H3: =VLOOKUP(B3,'Munster 2026–2027 Results'!$L$3:$M$16,2,FALSE)*G3 -> 200
A4: U11 Boys | B4: 2 | C4: Shay Long | D4: Beech Hill | E4: BHTTC | F4: 5 | G4: ='Munster 2026–2027 Results'!$M$19 -> 1 | H4: =VLOOKUP(B4,'Munster 2026–2027 Results'!$L$3:$M$16,2,FALSE)*G4 -> 160
A5: U11 Boys | B5: 3 | C5: Shane McCarthy | D5: Leeside | E5: Leeside | F5: 6 | G5: ='Munster 2026–2027 Results'!$M$19 -> 1 | H5: =VLOOKUP(B5,'Munster 2026–2027 Results'!$L$3:$M$16,2,FALSE)*G5 -> 130
A6: U13 Boys | B6: 1 | C6: Syed Taha Ahmed | D6: Beech Hill | E6: BHTTC | F6: 4 | G6: ='Munster 2026–2027 Results'!$M$19 -> 1 | H6: =VLOOKUP(B6,'Munster 2026–2027 Results'!$L$3:$M$16,2,FALSE)*G6 -> 200
A7: U13 Boys | B7: 2 | C7: Jamie Yan Theunissen | D7: Leeside | E7: Leeside | F7: 5 | G7: ='Munster 2026–2027 Results'!$M$19 -> 1 | H7: =VLOOKUP(B7,'Munster 2026–2027 Results'!$L$3:$M$16,2,FALSE)*G7 -> 160
A8: U13 Boys | B8: 3 | C8: Finn Burns | D8: Beech Hill | E8: BHTTC | F8: 6 | G8: ='Munster 2026–2027 Results'!$M$19 -> 1 | H8: =VLOOKUP(B8,'Munster 2026–2027 Results'!$L$3:$M$16,2,FALSE)*G8 -> 130
A9: U13 Boys | B9: 3 | C9: Mati Majchrzak | D9: Carrigtwohill | E9: Carrigtwohill | F9: 7 | G9: ='Munster 2026–2027 Results'!$M$19 -> 1 | H9: =VLOOKUP(B9,'Munster 2026–2027 Results'!$L$3:$M$16,2,FALSE)*G9 -> 130
A10: U13 Boys | B10: 5 | C10: Cian Long | D10: TTStars Waterford | E10: TT Stars | F10: 8 | G10: ='Munster 2026–2027 Results'!$M$19 -> 1 | H10: =VLOOKUP(B10,'Munster 2026–2027 Results'!$L$3:$M$16,2,FALSE)*G10 -> 90
A11: U13 Boys | B11: 5 | C11: Emile Autzen | D11: Leeside | E11: Leeside | F11: 9 | G11: ='Munster 2026–2027 Results'!$M$19 -> 1 | H11: =VLOOKUP(B11,'Munster 2026–2027 Results'!$L$3:$M$16,2,FALSE)*G11 -> 90
A12: U13 Boys | B12: 7 | C12: Antoni Kaucz | D12: Carrigtwohill | E12: Carrigtwohill | F12: 10 | G12: ='Munster 2026–2027 Results'!$M$19 -> 1 | H12: =VLOOKUP(B12,'Munster 2026–2027 Results'!$L$3:$M$16,2,FALSE)*G12 -> 75
A13: U13 Boys | B13: 8 | C13: Oscar Mazur | D13: Carrigtwohill | E13: Carrigtwohill | F13: 11 | G13: ='Munster 2026–2027 Results'!$M$19 -> 1 | H13: =VLOOKUP(B13,'Munster 2026–2027 Results'!$L$3:$M$16,2,FALSE)*G13 -> 70
A14: U13 Boys | B14: 9 | C14: Shane McCarthy | D14: Leeside | E14: Leeside | F14: 12 | G14: ='Munster 2026–2027 Results'!$M$19 -> 1 | H14: =VLOOKUP(B14,'Munster 2026–2027 Results'!$L$3:$M$16,2,FALSE)*G14 -> 65
... A54: Veterans Men | B54: 5 | C54: Myo Chit Ko | D54: Leeside | E54: Leeside | F54: 39 | G54: ='Munster 2026–2027 Results'!$M$19 -> 1 | H54: =VLOOKUP(B54,'Munster 2026–2027 Results'!$L$3:$M$16,2,FALSE)*G54 -> 90
A55: Veterans Men | B55: 6 | C55: Khurram Goraya | F55: 40 | G55: ='Munster 2026–2027 Results'!$M$19 -> 1 | H55: =VLOOKUP(B55,'Munster 2026–2027 Results'!$L$3:$M$16,2,FALSE)*G55 -> 80
A56: Veterans Men | B56: 7 | C56: John Conway | F56: 41 | G56: ='Munster 2026–2027 Results'!$M$19 -> 1 | H56: =VLOOKUP(B56,'Munster 2026–2027 Results'!$L$3:$M$16,2,FALSE)*G56 -> 75
A57: Veterans Men | B57: 7 | C57: Evaldus Pusinkas | D57: Leeside | E57: Leeside | F57: 42 | G57: ='Munster 2026–2027 Results'!$M$19 -> 1 | H57: =VLOOKUP(B57,'Munster 2026–2027 Results'!$L$3:$M$16,2,FALSE)*G57 -> 75
A58: Veterans Women | B58: 1 | C58: Bernie Franklin | D58: TTStars Waterford | E58: TTS | F58: 35 | G58: ='Munster 2026–2027 Results'!$M$19 -> 1 | H58: =VLOOKUP(B58,'Munster 2026–2027 Results'!$L$3:$M$16,2,FALSE)*G58 -> 200
A59: Veterans Women | B59: 2 | C59: Catherine Morrissey | D59: Waterford TTC | E59: WTTC | F59: 36 | G59: ='Munster 2026–2027 Results'!$M$19 -> 1 | H59: =VLOOKUP(B59,'Munster 2026–2027 Results'!$L$3:$M$16,2,FALSE)*G59 -> 160
A60: Veterans Women | B60: 3 | C60: Dorota Sokolowska | D60: Beech Hill | E60: BHHTC | F60: 37 | G60: ='Munster 2026–2027 Results'!$M$19 -> 1 | H60: =VLOOKUP(B60,'Munster 2026–2027 Results'!$L$3:$M$16,2,FALSE)*G60 -> 130
A61: Veterans Women | B61: 3 | C61: Sylwia Idec | D61: TTStars Waterford | E61: TTS | F61: 38 | G61: ='Munster 2026–2027 Results'!$M$19 -> 1 | H61: =VLOOKUP(B61,'Munster 2026–2027 Results'!$L$3:$M$16,2,FALSE)*G61 -> 130
A62: Veterans Women | B62: 5 | C62: Eileen Murphy | D62: Carrigtwohill | E62: Carrigtwohill | F62: 39 | G62: ='Munster 2026–2027 Results'!$M$19 -> 1 | H62: =VLOOKUP(B62,'Munster 2026–2027 Results'!$L$3:$M$16,2,FALSE)*G62 -> 90
A63: Veterans Women | B63: 6 | C63: Aine Burns | D63: Beech Hill | E63: BHHTC | F63: 40 | G63: ='Munster 2026–2027 Results'!$M$19 -> 1 | H63: =VLOOKUP(B63,'Munster 2026–2027 Results'!$L$3:$M$16,2,FALSE)*G63 -> 80
A64: Veterans Women | B64: 7 | C64: Oonagh Cunningham | D64: Beech Hill | E64: BHHTC | F64: 41 | G64: ='Munster 2026–2027 Results'!$M$19 -> 1 | H64: =VLOOKUP(B64,'Munster 2026–2027 Results'!$L$3:$M$16,2,FALSE)*G64 -> 75
A65: Veterans Women | B65: 7 | C65: Amelia O'Connor | D65: Beech Hill | E65: BHHTC | F65: 42 | G65: ='Munster 2026–2027 Results'!$M$19 -> 1 | H65: =VLOOKUP(B65,'Munster 2026–2027 Results'!$L$3:$M$16,2,FALSE)*G65 -> 75
A66: Senior Men 1 | B66: 1 | C66: Anthony Redmond | D66: Killarney | E66: Killarney | F66: 35 | G66: ='Munster 2026–2027 Results'!$M$19 -> 1 | H66: =VLOOKUP(B66,'Munster 2026–2027 Results'!$L$3:$M$16,2,FALSE)*G66 -> 200
A67: Senior Men 1 | B67: 2 | C67: Ankur Kuma | D67: Leeside | E67: Leeside | F67: 36 | G67: ='Munster 2026–2027 Results'!$M$19 -> 1 | H67: =VLOOKUP(B67,'Munster 2026–2027 Results'!$L$3:$M$16,2,FALSE)*G67 -> 160
A68: Senior Men 1 | B68: 3 | C68: Chetan Rai | D68: Leeside | E68: Leeside | F68: 37 | G68: ='Munster 2026–2027 Results'!$M$19 -> 1 | H68: =VLOOKUP(B68,'Munster 2026–2027 Results'!$L$3:$M$16,2,FALSE)*G68 -> 130
... A70: Senior Men 1 | B70: 5 | C70: Philip Shaw | D70: Beech Hill | E70: BHTTC | F70: 39 | G70: ='Munster 2026–2027 Results'!$M$19 -> 1 | H70: =VLOOKUP(B70,'Munster 2026–2027 Results'!$L$3:$M$16,2,FALSE)*G70 -> 90
A71: Senior Men 1 | B71: 5 | C71: John Conway | F71: 40 | G71: ='Munster 2026–2027 Results'!$M$19 -> 1 | H71: =VLOOKUP(B71,'Munster 2026–2027 Results'!$L$3:$M$16,2,FALSE)*G71 -> 90
A72: Senior Men 1 | B72: 5 | C72: Piotr Saweck1 | D72: Leeside | E72: Leeside | F72: 41 | G72: ='Munster 2026–2027 Results'!$M$19 -> 1 | H72: =VLOOKUP(B72,'Munster 2026–2027 Results'!$L$3:$M$16,2,FALSE)*G72 -> 90
A73: Senior Men 1 | B73: 5 | C73: AlexMelikov | D73: Leeside | E73: Leeside | F73: 42 | G73: ='Munster 2026–2027 Results'!$M$19 -> 1 | H73: =VLOOKUP(B73,'Munster 2026–2027 Results'!$L$3:$M$16,2,FALSE)*G73 -> 90
A74: Senior Men 1 | B74: 9 | C74: Myo Chit Ko | D74: Leeside | E74: Leeside | F74: 43 | G74: ='Munster 2026–2027 Results'!$M$19 -> 1 | H74: =VLOOKUP(B74,'Munster 2026–2027 Results'!$L$3:$M$16,2,FALSE)*G74 -> 65
A75: Senior Men 1 | B75: 10 | C75: Martin Burke | D75: TTStars Waterford | E75: TT Stars | F75: 44 | G75: ='Munster 2026–2027 Results'!$M$19 -> 1 | H75: =VLOOKUP(B75,'Munster 2026–2027 Results'!$L$3:$M$16,2,FALSE)*G75 -> 60
A76: Senior Men 1 | B76: 11 | C76: Conall Conroy | D76: Leeside | E76: Leeside | F76: 45 | G76: ='Munster 2026–2027 Results'!$M$19 -> 1 | H76: =VLOOKUP(B76,'Munster 2026–2027 Results'!$L$3:$M$16,2,FALSE)*G76 -> 55
A77: Senior Men 1 | B77: 12 | C77: Sean Buckley | D77: Leeside | E77: Leeside | F77: 46 | G77: ='Munster 2026–2027 Results'!$M$19 -> 1 | H77: =VLOOKUP(B77,'Munster 2026–2027 Results'!$L$3:$M$16,2,FALSE)*G77 -> 50
A78: Senior Men 2 | B78: 1 | C78: Jamie Yan Theunissen | D78: Leeside | E78: Leeside | F78: 35 | G78: ='Munster 2026–2027 Results'!$M$20 -> 0.4 | H78: =VLOOKUP(B78,'Munster 2026–2027 Results'!$L$3:$M$16,2,FALSE)*G78 -> 80
A79: Senior Men 2 | B79: 2 | C79: Jayden Yan Theunissen | D79: Leeside | E79: Leeside | F79: 36 | G79: ='Munster 2026–2027 Results'!$M$20 -> 0.4 | H79: =VLOOKUP(B79,'Munster 2026–2027 Results'!$L$3:$M$16,2,FALSE)*G79 -> 64
A80: Senior Men 2 | B80: 3 | C80: Khurram Goraya | F80: 37 | G80: ='Munster 2026–2027 Results'!$M$20 -> 0.4 | H80: =VLOOKUP(B80,'Munster 2026–2027 Results'!$L$3:$M$16,2,FALSE)*G80 -> 52
...
